BEGIN:VCALENDAR
VERSION:2.0
PRODID:-//Noodle Bar Schwyz//NONSGML kigkonsult.se iCalcreator 2.16.12//
METHOD:PUBLISH
X-MS-OLK-FORCEINSPECTOROPEN:TRUE
BEGIN:VEVENT
UID:20260419T204533CEST-9533RGCRlE@Noodle Bar Schwyz
DTSTAMP:20260419T184533Z
DESCRIPTION:
DTSTART:20231031T000000
DTEND:20231031T190000
ORGANIZER:MAILTO:Noodle Bar Schwyz <info@noodlebarsz.ch>
SUMMARY:Halloween- GEÖFFNET 
END:VEVENT
END:VCALENDAR
