BEGIN:VCALENDAR
VERSION:2.0
PRODID:-//Noodle Bar Schwyz//NONSGML kigkonsult.se iCalcreator 2.16.12//
METHOD:PUBLISH
X-MS-OLK-FORCEINSPECTOROPEN:TRUE
BEGIN:VEVENT
UID:20260419T204306CEST-9666ewleJu@Noodle Bar Schwyz
DTSTAMP:20260419T184306Z
DESCRIPTION:
DTSTART:20231111T183000
DTEND:20231111T190000
ORGANIZER:MAILTO:Noodle Bar Schwyz <info@noodlebarsz.ch>
SUMMARY:St. Martin- GEÖFFNET
END:VEVENT
END:VCALENDAR
