BEGIN:VCALENDAR
VERSION:2.0
PRODID:-//Noodle Bar Schwyz//NONSGML kigkonsult.se iCalcreator 2.16.12//
METHOD:PUBLISH
X-MS-OLK-FORCEINSPECTOROPEN:TRUE
BEGIN:VEVENT
UID:20260419T204437CEST-62710hv0Pv@Noodle Bar Schwyz
DTSTAMP:20260419T184437Z
DESCRIPTION:Betrieb Ferien von 24. Juli bis 15. August . 2023
DTSTART:20230724T100000
DTEND:20230815T200000
ORGANIZER:MAILTO:Noodle Bar Schwyz <info@noodlebarsz.ch>
SUMMARY:Betrieb Ferien von 24.07 bis 15.08.2023
END:VEVENT
END:VCALENDAR
