BEGIN:VCALENDAR
VERSION:2.0
PRODID:-//Noodle Bar Schwyz//NONSGML kigkonsult.se iCalcreator 2.16.12//
METHOD:PUBLISH
X-MS-OLK-FORCEINSPECTOROPEN:TRUE
BEGIN:VEVENT
UID:20260419T204335CEST-4040lWwiRU@Noodle Bar Schwyz
DTSTAMP:20260419T184335Z
DESCRIPTION:Für den heutigen Feiertag gelten unsere normale Öffnungszeiten 
 \n
DTSTART:20240115T000000
DTEND:20240115T235900
ORGANIZER:MAILTO:Noodle Bar Schwyz <info@noodlebarsz.ch>
SUMMARY:Erster Fasnachtstag - OFFEN ganze Tag 
END:VEVENT
END:VCALENDAR
