BEGIN:VCALENDAR
VERSION:2.0
PRODID:-//Noodle Bar Schwyz//NONSGML kigkonsult.se iCalcreator 2.16.12//
METHOD:PUBLISH
X-MS-OLK-FORCEINSPECTOROPEN:TRUE
BEGIN:VEVENT
UID:20260419T204437CEST-1099gR6Vv3@Noodle Bar Schwyz
DTSTAMP:20260419T184437Z
DESCRIPTION:Am heutigen bleibt unsere Restaurant durch gehen \n
DTSTART:20240208T000000
DTEND:20240208T000000
ORGANIZER:MAILTO:Noodle Bar Schwyz <info@noodlebarsz.ch>
SUMMARY:Schmutziger Donnerstag - OFFEN ganze Tag 
END:VEVENT
END:VCALENDAR
