BEGIN:VCALENDAR
VERSION:2.0
PRODID:-//Noodle Bar Schwyz//NONSGML kigkonsult.se iCalcreator 2.16.12//
METHOD:PUBLISH
X-MS-OLK-FORCEINSPECTOROPEN:TRUE
BEGIN:VEVENT
UID:20260419T204438CEST-1293k6FHjj@Noodle Bar Schwyz
DTSTAMP:20260419T184438Z
DESCRIPTION:Am heutigen bleibt unsere Restaurant durch gehen \n
DTSTART:20240212T000000
DTEND:20240212T000000
ORGANIZER:MAILTO:Noodle Bar Schwyz <info@noodlebarsz.ch>
SUMMARY:Güdel Montag - OFFEN ganz Tag 
END:VEVENT
END:VCALENDAR
