BEGIN:VCALENDAR
VERSION:2.0
PRODID:-//Noodle Bar Schwyz//NONSGML kigkonsult.se iCalcreator 2.16.12//
METHOD:PUBLISH
X-MS-OLK-FORCEINSPECTOROPEN:TRUE
BEGIN:VEVENT
UID:20260419T204306CEST-0687scv9VK@Noodle Bar Schwyz
DTSTAMP:20260419T184306Z
DESCRIPTION:Am heutigen Feiertag bleibt unser Restaurant geschlossen
DTSTART:20240401T000000
DTEND:20240401T000000
ORGANIZER:MAILTO:Noodle Bar Schwyz <info@noodlebarsz.ch>
SUMMARY:Ostermontag - Geschlossen
END:VEVENT
END:VCALENDAR
