BEGIN:VCALENDAR
VERSION:2.0
PRODID:-//Noodle Bar Schwyz//NONSGML kigkonsult.se iCalcreator 2.16.12//
METHOD:PUBLISH
X-MS-OLK-FORCEINSPECTOROPEN:TRUE
BEGIN:VEVENT
UID:20260419T204450CEST-7766cJedpw@Noodle Bar Schwyz
DTSTAMP:20260419T184450Z
DESCRIPTION:Betriebsferien vom 29.April bis 12. Mai. 2024\n
DTSTART:20240429T000000
DTEND:20240512T000000
ORGANIZER:MAILTO:Noodle Bar Schwyz <info@noodlebarsz.ch>
SUMMARY:Betriebsferien 29.04 bis 12.05
END:VEVENT
END:VCALENDAR
