BEGIN:VCALENDAR
VERSION:2.0
PRODID:-//Noodle Bar Schwyz//NONSGML kigkonsult.se iCalcreator 2.16.12//
METHOD:PUBLISH
X-MS-OLK-FORCEINSPECTOROPEN:TRUE
BEGIN:VEVENT
UID:20260419T205329CEST-7473OIIMUl@Noodle Bar Schwyz
DTSTAMP:20260419T185329Z
DESCRIPTION:Unsere Restaurant ist ab 17:30 Uhr offen \n
DTSTART:20240815T000000
DTEND:20240815T000000
ORGANIZER:MAILTO:Noodle Bar Schwyz <info@noodlebarsz.ch>
SUMMARY:Mariä Himmelfahrt - OFFEN ab 17:30 Uhr 
END:VEVENT
END:VCALENDAR
