BEGIN:VCALENDAR
VERSION:2.0
PRODID:-//Noodle Bar Schwyz//NONSGML kigkonsult.se iCalcreator 2.16.12//
METHOD:PUBLISH
X-MS-OLK-FORCEINSPECTOROPEN:TRUE
BEGIN:VEVENT
UID:20260419T205915CEST-6697FvfnuV@Noodle Bar Schwyz
DTSTAMP:20260419T185915Z
DESCRIPTION:Am heutigen Feiertag bleibt unser Restaurant geschlossen
DTSTART:20241111T000000
DTEND:20241111T000000
ORGANIZER:MAILTO:Noodle Bar Schwyz <info@noodlebarsz.ch>
SUMMARY:Patroziniumsfest - Geschlossen
END:VEVENT
END:VCALENDAR
