BEGIN:VCALENDAR
VERSION:2.0
PRODID:-//Noodle Bar Schwyz//NONSGML kigkonsult.se iCalcreator 2.16.12//
METHOD:PUBLISH
X-MS-OLK-FORCEINSPECTOROPEN:TRUE
BEGIN:VEVENT
UID:20260419T204334CEST-4189LvKgaE@Noodle Bar Schwyz
DTSTAMP:20260419T184334Z
DESCRIPTION:Am heutigen Feiertag bleibt unser Restaurant geschlossen
DTSTART:20231224T000000
DTEND:20231224T000000
ORGANIZER:MAILTO:Noodle Bar Schwyz <info@noodlebarsz.ch>
SUMMARY:Weihnachten - Geschlossen
END:VEVENT
END:VCALENDAR
