BEGIN:VCALENDAR
VERSION:2.0
PRODID:-//Noodle Bar Schwyz//NONSGML kigkonsult.se iCalcreator 2.16.12//
METHOD:PUBLISH
X-MS-OLK-FORCEINSPECTOROPEN:TRUE
BEGIN:VEVENT
UID:20260419T204451CEST-4458kXjGrW@Noodle Bar Schwyz
DTSTAMP:20260419T184451Z
DESCRIPTION:Unser Restaurant ist offen ab 17:30 - 22:00 Uhr \n
DTSTART:20231208T150000
DTEND:20231208T153000
ORGANIZER:MAILTO:Noodle Bar Schwyz <info@noodlebarsz.ch>
SUMMARY:Maria Empfängnis - Öffnungszeiten 
END:VEVENT
END:VCALENDAR
