BEGIN:VCALENDAR
VERSION:2.0
PRODID:-//Noodle Bar Schwyz//NONSGML kigkonsult.se iCalcreator 2.16.12//
METHOD:PUBLISH
X-MS-OLK-FORCEINSPECTOROPEN:TRUE
BEGIN:VEVENT
UID:20260419T204436CEST-1451JppgZT@Noodle Bar Schwyz
DTSTAMP:20260419T184436Z
DESCRIPTION:
DTSTART:20240329T093000
DTEND:20240329T100000
ORGANIZER:MAILTO:Noodle Bar Schwyz <info@noodlebarsz.ch>
SUMMARY:Karfreitag - Geschlossen 
END:VEVENT
END:VCALENDAR
