BEGIN:VCALENDAR
VERSION:2.0
PRODID:-//Noodle Bar Schwyz//NONSGML kigkonsult.se iCalcreator 2.16.12//
METHOD:PUBLISH
X-MS-OLK-FORCEINSPECTOROPEN:TRUE
BEGIN:VEVENT
UID:20260419T205404CEST-3881Eau3Va@Noodle Bar Schwyz
DTSTAMP:20260419T185404Z
DESCRIPTION:
DTSTART:20240717T180000
DTEND:20240717T183000
ORGANIZER:MAILTO:Noodle Bar Schwyz <info@noodlebarsz.ch>
SUMMARY:Betriebsferien ausnahmsweise
END:VEVENT
END:VCALENDAR
