BEGIN:VCALENDAR
VERSION:2.0
PRODID:-//Noodle Bar Schwyz//NONSGML kigkonsult.se iCalcreator 2.16.12//
METHOD:PUBLISH
X-MS-OLK-FORCEINSPECTOROPEN:TRUE
BEGIN:VEVENT
UID:20260419T190745CEST-1043vVJ36X@Noodle Bar Schwyz
DTSTAMP:20260419T170745Z
DESCRIPTION:Heute ist unser Restaurant GESCHLOSSEN 
DTSTART:20250113T000000
DTEND:20250113T235900
ORGANIZER:MAILTO:Noodle Bar Schwyz <info@noodlebarsz.ch>
SUMMARY:Erster Fasnachtstag - GESCHLOSSEN
END:VEVENT
END:VCALENDAR
