BEGIN:VCALENDAR
VERSION:2.0
PRODID:-//Noodle Bar Schwyz//NONSGML kigkonsult.se iCalcreator 2.16.12//
METHOD:PUBLISH
X-MS-OLK-FORCEINSPECTOROPEN:TRUE
BEGIN:VEVENT
UID:20260419T192736CEST-6704iIRVwv@Noodle Bar Schwyz
DTSTAMP:20260419T172736Z
DESCRIPTION:
DTSTART:20250304T000000
DTEND:20250304T235900
ORGANIZER:MAILTO:Noodle Bar Schwyz <info@noodlebarsz.ch>
SUMMARY:Güdel Dienstag - Geschlossen 
END:VEVENT
END:VCALENDAR
