BEGIN:VCALENDAR
VERSION:2.0
PRODID:-//Noodle Bar Schwyz//NONSGML kigkonsult.se iCalcreator 2.16.12//
METHOD:PUBLISH
X-MS-OLK-FORCEINSPECTOROPEN:TRUE
BEGIN:VEVENT
UID:20260419T193031CEST-2582mPgChv@Noodle Bar Schwyz
DTSTAMP:20260419T173031Z
DESCRIPTION:
DTSTART:20250305T000000
DTEND:20250305T235900
ORGANIZER:MAILTO:Noodle Bar Schwyz <info@noodlebarsz.ch>
SUMMARY:Aschermittwoch - Geschlossen 
END:VEVENT
END:VCALENDAR
