BEGIN:VCALENDAR
VERSION:2.0
PRODID:-//Noodle Bar Schwyz//NONSGML kigkonsult.se iCalcreator 2.16.12//
METHOD:PUBLISH
X-MS-OLK-FORCEINSPECTOROPEN:TRUE
BEGIN:VEVENT
UID:20260419T190745CEST-8687aFfTAZ@Noodle Bar Schwyz
DTSTAMP:20260419T170745Z
DESCRIPTION:
DTSTART:20250421T093000
DTEND:20250421T100000
ORGANIZER:MAILTO:Noodle Bar Schwyz <info@noodlebarsz.ch>
SUMMARY:Betrieb Ferien von 14/04 bis 21/04
END:VEVENT
END:VCALENDAR
