BEGIN:VCALENDAR
VERSION:2.0
PRODID:-//Noodle Bar Schwyz//NONSGML kigkonsult.se iCalcreator 2.16.12//
METHOD:PUBLISH
X-MS-OLK-FORCEINSPECTOROPEN:TRUE
BEGIN:VEVENT
UID:20260419T192603CEST-0725vvUuVM@Noodle Bar Schwyz
DTSTAMP:20260419T172603Z
DESCRIPTION:
DTSTART:20250801T123000
DTEND:20250817T130000
ORGANIZER:MAILTO:Noodle Bar Schwyz <info@noodlebarsz.ch>
SUMMARY:Betrieb Ferien von 01/08bis 17/08
END:VEVENT
END:VCALENDAR
