BEGIN:VCALENDAR
VERSION:2.0
PRODID:-//Noodle Bar Schwyz//NONSGML kigkonsult.se iCalcreator 2.16.12//
METHOD:PUBLISH
X-MS-OLK-FORCEINSPECTOROPEN:TRUE
BEGIN:VEVENT
UID:20260419T185920CEST-8447bWD6hb@Noodle Bar Schwyz
DTSTAMP:20260419T165920Z
DESCRIPTION:
DTSTART:20251208T000000
DTEND:20251208T235900
ORGANIZER:MAILTO:Noodle Bar Schwyz <info@noodlebarsz.ch>
SUMMARY:Maria Empfängnis - ab 17:30 Offen 
END:VEVENT
END:VCALENDAR
