BEGIN:VCALENDAR
VERSION:2.0
PRODID:-//Noodle Bar Schwyz//NONSGML kigkonsult.se iCalcreator 2.16.12//
METHOD:PUBLISH
X-MS-OLK-FORCEINSPECTOROPEN:TRUE
BEGIN:VEVENT
UID:20260419T185758CEST-1377uXdvDM@Noodle Bar Schwyz
DTSTAMP:20260419T165758Z
DESCRIPTION:
DTSTART:20251224T230000
DTEND:20260104T233000
ORGANIZER:MAILTO:Noodle Bar Schwyz <info@noodlebarsz.ch>
SUMMARY:Betrieb Ferien vom 24/12/2025 bis 04/01/2026 
END:VEVENT
END:VCALENDAR
