BEGIN:VCALENDAR
VERSION:2.0
PRODID:-//Noodle Bar Schwyz//NONSGML kigkonsult.se iCalcreator 2.16.12//
METHOD:PUBLISH
X-MS-OLK-FORCEINSPECTOROPEN:TRUE
BEGIN:VEVENT
UID:20260419T185758CEST-4311XVSluk@Noodle Bar Schwyz
DTSTAMP:20260419T165758Z
DESCRIPTION:
DTSTART:20260106T000000
DTEND:20260106T235900
ORGANIZER:MAILTO:Noodle Bar Schwyz <info@noodlebarsz.ch>
SUMMARY:Drei Könige - 17:30 Uhr Offen 
END:VEVENT
END:VCALENDAR
