BEGIN:VCALENDAR
VERSION:2.0
PRODID:-//Noodle Bar Schwyz//NONSGML kigkonsult.se iCalcreator 2.16.12//
METHOD:PUBLISH
X-MS-OLK-FORCEINSPECTOROPEN:TRUE
BEGIN:VEVENT
UID:20260419T185631CEST-0637B9Gd3X@Noodle Bar Schwyz
DTSTAMP:20260419T165631Z
DESCRIPTION:
DTSTART:20260216T000000
DTEND:20260217T235900
ORGANIZER:MAILTO:Noodle Bar Schwyz <info@noodlebarsz.ch>
SUMMARY:Güdelmontag - OFFEN 
END:VEVENT
END:VCALENDAR
