BEGIN:VCALENDAR
VERSION:2.0
PRODID:-//Noodle Bar Schwyz//NONSGML kigkonsult.se iCalcreator 2.16.12//
METHOD:PUBLISH
X-MS-OLK-FORCEINSPECTOROPEN:TRUE
BEGIN:VEVENT
UID:20260419T185823CEST-6074lF1DX8@Noodle Bar Schwyz
DTSTAMP:20260419T165823Z
DESCRIPTION:
DTSTART:20260217T000000
DTEND:20260218T235900
ORGANIZER:MAILTO:Noodle Bar Schwyz <info@noodlebarsz.ch>
SUMMARY:Güdeldienstag - Geschlossen 
END:VEVENT
END:VCALENDAR
