BEGIN:VCALENDAR
VERSION:2.0
PRODID:-//Noodle Bar Schwyz//NONSGML kigkonsult.se iCalcreator 2.16.12//
METHOD:PUBLISH
X-MS-OLK-FORCEINSPECTOROPEN:TRUE
BEGIN:VEVENT
UID:20260419T185951CEST-26287om6re@Noodle Bar Schwyz
DTSTAMP:20260419T165951Z
DESCRIPTION:
DTSTART:20260218T000000
DTEND:20260219T235900
ORGANIZER:MAILTO:Noodle Bar Schwyz <info@noodlebarsz.ch>
SUMMARY:Aschermittwoch - OFFEN 
END:VEVENT
END:VCALENDAR
