BEGIN:VCALENDAR
VERSION:2.0
PRODID:-//Noodle Bar Schwyz//NONSGML kigkonsult.se iCalcreator 2.16.12//
METHOD:PUBLISH
X-MS-OLK-FORCEINSPECTOROPEN:TRUE
BEGIN:VEVENT
UID:20260419T190012CEST-3655UGTdjX@Noodle Bar Schwyz
DTSTAMP:20260419T170012Z
DESCRIPTION:
DTSTART:20260112T000000
DTEND:20260112T235900
ORGANIZER:MAILTO:Noodle Bar Schwyz <info@noodlebarsz.ch>
SUMMARY:Erster Fasnacht- Geschlossen 
END:VEVENT
END:VCALENDAR
