BEGIN:VCALENDAR
VERSION:2.0
PRODID:-//Noodle Bar Schwyz//NONSGML kigkonsult.se iCalcreator 2.16.12//
METHOD:PUBLISH
X-MS-OLK-FORCEINSPECTOROPEN:TRUE
BEGIN:VEVENT
UID:20260419T185707CEST-17839M6UdD@Noodle Bar Schwyz
DTSTAMP:20260419T165707Z
DESCRIPTION:
DTSTART:20260330T180000
DTEND:20260406T183000
ORGANIZER:MAILTO:Noodle Bar Schwyz <info@noodlebarsz.ch>
SUMMARY:Betriebsferien 30/03 bis 06/04
END:VEVENT
END:VCALENDAR
