BEGIN:VCALENDAR
VERSION:2.0
PRODID:-//Noodle Bar Schwyz//NONSGML kigkonsult.se iCalcreator 2.16.12//
METHOD:PUBLISH
X-MS-OLK-FORCEINSPECTOROPEN:TRUE
BEGIN:VEVENT
UID:20260419T185839CEST-9913dRlNbv@Noodle Bar Schwyz
DTSTAMP:20260419T165839Z
DESCRIPTION:
DTSTART:20260525T000000
DTEND:20260525T235900
ORGANIZER:MAILTO:Noodle Bar Schwyz <info@noodlebarsz.ch>
SUMMARY:Pfingstmontag- Geschlossen 
END:VEVENT
END:VCALENDAR
