BEGIN:VCALENDAR
VERSION:2.0
PRODID:-//Noodle Bar Schwyz//NONSGML kigkonsult.se iCalcreator 2.16.12//
METHOD:PUBLISH
X-MS-OLK-FORCEINSPECTOROPEN:TRUE
BEGIN:VEVENT
UID:20260419T204305CEST-5173Ux2v2x@Noodle Bar Schwyz
DTSTAMP:20260419T184305Z
DESCRIPTION:Unser Restaurant bleibt heute geschlossen
DTSTART:20190801T000000
DTEND:20190801T000000
ORGANIZER:MAILTO:Noodle Bar Schwyz <info@noodlebarsz.ch>
SUMMARY:Nationalfeiertag - geschlossen
END:VEVENT
END:VCALENDAR
