BEGIN:VCALENDAR
VERSION:2.0
PRODID:-//Noodle Bar Schwyz//NONSGML kigkonsult.se iCalcreator 2.16.12//
METHOD:PUBLISH
X-MS-OLK-FORCEINSPECTOROPEN:TRUE
BEGIN:VEVENT
UID:20260419T204307CEST-45740CZjMv@Noodle Bar Schwyz
DTSTAMP:20260419T184307Z
DESCRIPTION:Unser Restaurant bleibt heute geschlossen
DTSTART:20190715T000000
DTEND:20190826T000000
ORGANIZER:MAILTO:Noodle Bar Schwyz <info@noodlebarsz.ch>
SUMMARY:Betriebferien - geschlossen
END:VEVENT
END:VCALENDAR
