BEGIN:VCALENDAR
VERSION:2.0
PRODID:-//Noodle Bar Schwyz//NONSGML kigkonsult.se iCalcreator 2.16.12//
METHOD:PUBLISH
X-MS-OLK-FORCEINSPECTOROPEN:TRUE
BEGIN:VEVENT
UID:20260419T222640CEST-1358D4v117@Noodle Bar Schwyz
DTSTAMP:20260419T202640Z
DESCRIPTION:Es geten unsere normalen Öffnungszeiten
DTSTART:20191101T000000
DTEND:20191101T000000
ORGANIZER:MAILTO:Noodle Bar Schwyz <info@noodlebarsz.ch>
SUMMARY:Allerheiligen - geöffnet
END:VEVENT
END:VCALENDAR
